Workbook
Name _ftnref1: Évaluation!$C$8

Sheet Résumé
A1: Demande d'aide financière FRC 2026-2027
A2: Robotique FIRST Québec
A4: Onglet Équipe | B4: =IF(Équipe!C5&Équipe!C6&Équipe!C7&Équipe!C8&Équipe!C9&Équipe!C25&Équipe!C26&Équipe!C27&Équipe!D33&Équipe!D34="","Complété","À compléter") -> À compléter
A6: Revenus
A7: Frais aux élèves | B7: =Revenus!B8 -> 0
A8: Organisation scolaire | B8: =Revenus!B15 -> 0
A9: Commanditaires | B9: =Revenus!B24 -> 0
A10: Activités de financement | B10: =Revenus!B31 -> 0
A11: Autres | B11: =Revenus!B38 -> 0
A12: Sous-total | B12: =SUM(B7:B11) -> 0
A14: Dépenses
A15: Frais d'inscription | B15: =Dépenses!B9 -> 9200
A16: Matériel | B16: =Dépenses!B19 -> 0
A17: Ressources humaines | B17: =Dépenses!B26 -> 0
A18: Voyage pour compétition du Québec | B18: =Dépenses!B33 -> 0
A19: Autres voyages | B19: =Dépenses!B40 -> 0
A20: Sous-total | B20: =SUM(B15:B19) -> 9200
A22: Solde | B22: =B12-B20 -> -9200
A24: Onglet Financement
A25: Bourse demandée | B25: =Financement!A6 -> 0
A26: Justification du montant | B26: =IF(ISBLANK(Financement!A9),"À compléter","Complété") -> À compléter
A27: Circonstances imprévues | B27: =IF(ISBLANK(Financement!A12),"À compléter","Complété") -> À compléter
A28: Actions concrètes | B28: =IF(ISBLANK(Financement!A15),"À compléter","Complété") -> À compléter
A29: Plan autonomie financière | B29: =IF(ISBLANK(Financement!A18),"À compléter","Complété") -> À compléter

Sheet Équipe
A1: Équipe
A3: Établissement scolaire
A4: Si votre école fait partie du réseau public, son rang décile IMSE est disponible sur le site web du ministère de l'Éducation. Vous pouvez laisser cette donnée vide et le comité d'évaluation ira vérifier. Un milieu est considéré défavorisé lorsque le rang décile IMSE est de 8, 9 ou 10.
A5: Numéro d'équipe | C5: =IF(ISBLANK(B5),"À compléter","") -> À compléter
A6: Nom de l'équipe | C6: =IF(ISBLANK(B6),"À compléter","") -> À compléter
A7: Année de création (automne) | C7: =IF(ISBLANK(B7),"À compléter","") -> À compléter
A8: Nom de l'école | C8: =IF(ISBLANK(B8),"À compléter","") -> À compléter
A9: Ville | C9: =IF(ISBLANK(B9),"À compléter","") -> À compléter
A10: Réseau d'enseignement | B10: Public | C10: =IF(ISBLANK(B10),"À compléter","")
A11: Rang décile IMSE
A12: Milieu défavorisé | B12: =IF(AND(B11>=8,B10="Public"),"Oui","Non") -> Non
A14: Marketing
A15: Indiquez si vous avez un plan de visibilité et les liens vers vos réseaux sociaux, si applicables. Un plan de visibilité est un document qui sert à présenter votre équipe à de futurs partenaires, incluant la visibilité offerte en échange d'un soutien financier ou matériel. Si vous possédez un plan de visibilité, veuillez le joindre avec ce document Excel lors de votre demande de bourse.
A16: Plan de visibilité ? | C16: =IF(ISBLANK(B16),"À compléter","") -> À compléter
A17: Lien site web
A18: Lien Facebook
A19: Lien Instagram
A20: Lien TikTok
A21: Lien LinkedIn
A22: Autres
A24: Composition de votre équipe
A25: Nombre d'élèves (M) | C25: =IF(ISBLANK(B25),"À compléter","") -> À compléter
A26: Nombre d'élèves (F) | C26: =IF(ISBLANK(B26),"À compléter","") -> À compléter
A27: Nombre d’élèves (X) | C27: =IF(ISBLANK(B27),"À compléter","") -> À compléter
A28: Nombre d'élèves avec plan d'intervention (facultatif)
A30: Coachs et mentors
A31: Indiquez le rôle de chacun de vos coachs/mentors et si elle ou il fait partie du personnel de l'école.
A32: Fait partie du personnel de l'école | B32: Rôle | C32: #
A33: Non | C33: 1 | D33: =IF(OR(ISBLANK(A33),ISBLANK(B33)),"À compléter","") -> À compléter
C34: 2 | D34: =IF(OR(ISBLANK(A34),ISBLANK(B34)),"À compléter","") -> À compléter
C35: 3
C36: 4
C37: 5
C38: 6
C39: 7
C40: 8
C41: 9
C42: 10
C43: 11
C44: 12
...

Sheet Revenus
A1: Revenus
A2: Vous pouvez ajouter des lignes dans chaque catégorie, si nécessaire. --- Selon votre situation, il est possible que certains de vos revenus ou sources de financement soient partagés entre plusieurs programmes et activités. Exemple : certains de vos élèves paient un frais d'inscription pour l'année, mais participent à FTC à l'automne puis à FRC à l'hiver, ou bien vos commanditaires donnent pour l'ensemble de vos équipes FLL/FTC/FRC et non uniquement pour FRC. Dans ce cas, ne déclarez pas les revenus totaux, mais la part attribuable à FRC en fonction de la proportion des dépenses du programme. Inscrivez-le aussi dans la description de ce revenu. Par exemple, si vous recevez 4 000 $ d'un commanditaire ABC pour votre équipe FTC et votre équipe FRC, mais que les dépenses de FRC comptent pour 75 % de vos dépenses totales, inscrivez 3 000 $ comme revenu.
A4: Frais aux élèves
A5: Frais payés par les élèves | B5: Montant
A8: Sous-total | B8: =SUM(B6:B7) -> 0
A10: Organisation scolaire
A11: Mesures gouvernementales, école, centre de services scolaire, fondation | B11: Montant
A15: Sous-total | B15: =SUM(B12:B14) -> 0
A17: Commanditaires
A18: Dons d'entreprises en échange de visibilité | B18: Montant
A24: Sous-total | B24: =SUM(B19:B23) -> 0
A26: Activités de financement
A27: Vente de produits, organisation d'activités avec revenus, etc. | B27: Montant
A31: Sous-total | B31: =SUM(B28:B30) -> 0
A33: Autres
A34: Bourses, etc. | B34: Montant
A38: Sous-total | B38: =SUM(B35:B37) -> 0
A40: Total des revenus | B40: =B8+B15+B24+B31+B38 -> 0

Sheet Dépenses
A1: Dépenses
A2: Vous pouvez ajouter des lignes dans chaque catégorie, si nécessaire.
A4: Frais d'inscription
A5: Frais d'inscription officiels payés auprès de FIRST | B5: Montant
A6: Inscription de l'équipe (incluant compétition Québec) | B6: 9200
A9: Sous-total | B9: =SUM(B6:B8) -> 9200
A11: Matériel
A12: Composantes pour le robot, terrain, ordinateurs, chandails, logiciels… | B12: Montant
A19: Sous-total | B19: =SUM(B13:B18) -> 0
A21: Ressources humaines
A22: Salaires, suppléances… | B22: Montant
A26: Sous-total | B26: =SUM(B23:B25) -> 0
A28: Voyage pour compétition du Québec
A29: Hôtel, bus et repas liés à la compétition du Québec | B29: Montant
A33: Sous-total | B33: =SUM(B30:B32) -> 0
A35: Autres voyages
A36: Dépenses liées à d'autres voyages | B36: Montant
A40: Sous-total | B40: =SUM(B37:B39) -> 0
A42: Total des dépenses | B42: =B9+B19+B26+B33+B40 -> 9200

Sheet Financement
A1: Financement
A2: Il n'y a pas de nombre de mots minimal ou maximal, mais assurez-vous de rester le plus concis possible, tout en répondant à toutes les questions. Vous pouvez redimensionner la hauteur des lignes, si nécessaire.
A4: Montant demandé
A5: Inscrivez ci-dessous le montant de la bourse demandée qui, selon vous, représente le montant minimal nécessaire à la survie de votre équipe cette saison. Le montant demandé ne peut pas dépasser le coût de l'inscription pour la saison : 6 500 USD, soit environ 9 200 CAD. Vous vous engagez à obtenir du financement d'un commanditaire externe d'une valeur d'au moins 25 % de la bourse demandée.
B6: =IF(ISBLANK(A6),"À compléter","") -> À compléter
A8: Pourquoi ce montant est-il nécessaire pour la survie de votre équipe cette saison ?
B9: =IF(ISBLANK(A9),"À compléter","") -> À compléter
A11: Au cours des derniers mois, votre équipe a-t-elle rencontré des circonstances imprévues qui impactent votre santé financière? Si oui, quelles sont-elles ?
B12: =IF(ISBLANK(A12),"À compléter","") -> À compléter
A14: Quelles sont les actions concrètes que votre équipe compte faire cette saison pour obtenir du financement ? Si vous avez soumis votre candidature pour d'autres bourses ou si vous en avez obtenues, incluez ces démarches ici. En présentant une demande de bourse, votre équipe s'engage à obtenir du financement d'un commanditaire externe d'une valeur d'au moins 25 % du montant demandé.
B15: =IF(ISBLANK(A15),"À compléter","") -> À compléter
A17: Quel est votre plan pour devenir autonome financièrement au cours des prochaines années ?
B18: =IF(ISBLANK(A18),"À compléter","") -> À compléter
A20: (facultatif) Y a-t-il d'autres informations que vous souhaitez nous partager et que vous jugez pertinentes pour l'évaluation de votre demande ?

Sheet Évaluation
A1: Évaluation
A2: Section réservée à RFQ
F3: Évaluateur 1 | G3: Évaluateur 2 | H3: Évaluateur 3 | I3: Moyenne
A4: Réseau d'enseignement et défavorisation | F4: {=_xlfn.IFS(Équipe!B12="Oui",20,Équipe!B10="Public",10,TRUE,0)} -> 10 | I4: =F4 -> 10
A5: 0 L’équipe n'est pas associée à une école du réseau public. | B5: 10 L’équipe est associée à une école du réseau public. | C5: 20 L’équipe est associée à une école défavorisée du réseau public.
A6: Création de l'équipe | F6: {=_xlfn.SWITCH(YEAR(TODAY()) - Équipe!B7 + 1, 1, 15, 2, 10, 3, 5, 0)} -> 0 | I6: =F6 -> 0
A7: 0 L’équipe a participé à plus de trois saisons. | B7: 5 L’équipe participe à sa troisième saison. | C7: 10 L’équipe participe à sa deuxième saison. | D7: 15 L'équipe participe à sa première saison.
A8: Distance du lieu de compétition | I8: =F8 -> 0
A9: 0 L’équipe se situe près du lieu de compétition et ses membres peuvent voyager entre celui-ci et leur domicile. | C9: 15 L’équipe se situe à une distance considérable du lieu de compétition, nécessitant séjour à l’hôtel.
A10: Circonstances imprévues | I10: =AVERAGE(F10:H11) -> #DIV/0!
A11: 0 L'équipe ne présente pas de circonstances imprévues ou celles-ci sont peu récentes ou ont peu ou pas d’impact financier. | B11: 8 L'équipe mentionne des circonstances imprévues, mais celles-ci ne sont pas nécessairement récentes ou leur impact financier n’est pas clair. | C11: 15 L'équipe présente clairement l’impact financier de circonstances imprévues récentes.
A12: Stratégies d’autofinancement | I12: =AVERAGE(F12:H13) -> #DIV/0!
A13: 0 L'équipe présente peu ou pas de stratégie d'autofinancement réaliste. Elle ne possède pas de véritable plan de visibilité. La présence sur les réseaux sociaux est absente ou très limitée. | B13: 12 L'équipe propose quelques idées d'autofinancement, mais celles-ci sont peu détaillées ou leur potentiel est incertain. La présence sur les réseaux sociaux ou le plan de visibilité est limité ou incomplet. | C13: 24 L'équipe présente une démarche d'autofinancement réaliste, mais certains éléments pourraient être plus détaillés. Une présence sur les réseaux sociaux est amorcée ou un plan de visibilité est présenté. | D13: 35 L'équipe présente une démarche précise et réaliste pour s'autofinancer au cours des prochaines années. L'équipe est présente sur les réseaux sociaux et a un plan de visibilité détaillée.
E14: Total : | F14: =SUM(F4:F13) -> 10 | G14: =SUM(G4:G13) -> 0 | H14: =SUM(H4:H13) -> 0 | I14: =SUM(I4:I13) -> #DIV/0!
